View In:
  ArcGIS JavaScript
  ArcGIS Online map viewer
  Google Earth
  ArcMap
View Footprint In:
  ArcGIS Online map viewer
Service Description:  ImageServices/fvcom_climatology_annual_currents_speed_surface 
Name:  ImageServices/fvcom_climatology_annual_currents_speed_surface 
Description:  ImageServices/fvcom_climatology_annual_currents_speed_surface 
Single Fused Map Cache:  false
Extent: 
XMin: -8421096.343538176
YMin: 4209541.715829265
XMax: -6336625.398203604
YMax: 5796465.638568
Spatial Reference: 102100
 (3857)
 
Initial Extent: 
XMin: -8421096.343538176
YMin: 4209541.715829265
XMax: -6336625.398203604
YMax: 5796465.638568
Spatial Reference: 102100
 (3857)
 
Full Extent: 
XMin: -8421096.343538176
YMin: 4209541.715829265
XMax: -6336625.398203604
YMax: 5796465.638568
Spatial Reference: 102100
 (3857)
 
Pixel Size X:  256.2034101935315 
Pixel Size Y:  256.20341019353157 
Band Count: 2
Pixel Type: F32
RasterFunction Infos:  {"name":"climatology_currents_geo_color","description":"A raster function template.","help":""}, {"name":"climatology_currents_geo_color","description":"A raster function template.","help":""}, {"name":"None","description":"A No-Op Function.","help":""} 
Mensuration Capabilities: Basic
Has Histograms:  true
Has Colormap:  false
Has Multi Dimensions :  false
Rendering Rule: 
Min Scale:  0
Max Scale:  0
Copyright Text:  
Service Data Type:  esriImageServiceDataTypeGeneric 
Min Values:  9.556364384479821E-4, 0.4598614573478699 
Max Values:  1.0938770771026611, 359.5815124511719 
Mean Values:  0.14676610251531805, 141.12632769446282 
Standard Deviation Values:  0.14649315975593905, 65.71025127043251 
Object ID Field:  OBJECTID 
Fields: 
- 
OBJECTID
(
type: esriFieldTypeOID
, alias: OBJECTID
)
 
- 
Shape
(
type: esriFieldTypeGeometry
, alias: Shape
)
 
- 
Name
(
type: esriFieldTypeString
, alias: Name
, length: 200
)
 
- 
MinPS
(
type: esriFieldTypeDouble
, alias: MinPS
)
 
- 
MaxPS
(
type: esriFieldTypeDouble
, alias: MaxPS
)
 
- 
LowPS
(
type: esriFieldTypeDouble
, alias: LowPS
)
 
- 
HighPS
(
type: esriFieldTypeDouble
, alias: HighPS
)
 
- 
Category
(
type: esriFieldTypeInteger
, alias: Category
, Coded Values: 
[0: Unknown]
, [1: Primary]
, [2: Overview]
, ...5 more...
)
 
- 
Tag
(
type: esriFieldTypeString
, alias: Tag
, length: 100
)
 
- 
GroupName
(
type: esriFieldTypeString
, alias: GroupName
, length: 100
)
 
- 
ProductName
(
type: esriFieldTypeString
, alias: ProductName
, length: 100
)
 
- 
CenterX
(
type: esriFieldTypeDouble
, alias: CenterX
)
 
- 
CenterY
(
type: esriFieldTypeDouble
, alias: CenterY
)
 
- 
ZOrder
(
type: esriFieldTypeInteger
, alias: ZOrder
)
 
- 
Shape_Length
(
type: esriFieldTypeDouble
, alias: Shape_Length
)
 
- 
Shape_Area
(
type: esriFieldTypeDouble
, alias: Shape_Area
)
 
Default Mosaic Method:  Northwest 
Allowed Mosaic Methods:  NorthWest,Center,LockRaster,ByAttribute,Nadir,Viewpoint,Seamline,None 
SortField:  
SortValue:  null 
Mosaic Operator:  First 
Default Compression Quality:  75 
Default Resampling Method:  Bilinear 
Max Record Count:  1000 
Max Image Height:  4100 
Max Image Width:  15000 
Max Download Image Count:  20 
Max Mosaic Image Count:  20 
Allow Raster Function:  true 
Allow Compute TiePoints:  false 
Supports Statistics:  true 
Supports Advanced Queries:  true 
Use StandardizedQueries:  true 
Raster Type Infos: 
Name: Raster Dataset
Description: Supports all ArcGIS Raster Datasets
Help: 
Has Raster Attribute Table:  false 
Edit Fields Info:  null 
Ownership Based AccessControl For Rasters:  null 
Child Resources:
  
Info
  Histograms
  Key Properties
  Legend
  MultiDimensionalInfo
  rasterFunctionInfos
Supported Operations:
  
Export Image
  Query
  Identify
  Measure
  Compute Histograms
  Compute Statistics Histograms
  Get Samples
  Compute Class Statistics