View In:
ArcGIS JavaScript
ArcGIS Online map viewer
Google Earth
ArcMap
ArcGIS Explorer
View Footprint In:
ArcGIS Online map viewer
Service Description: This is a tile cache service showing distribution and density of fishing locations from Vessel Monitoring System (VMS) data provided by NOAA National Marine Fishery Service (NMFS).
Map Name: Layers
Legend
All Layers and Tables
Layers:
Description:
Copyright Text: NROC, NMFS
Spatial Reference:
102100
(3857)
Single Fused Map Cache: true
Tile Info:
- Height: 256
- Width: 256
- DPI: 96
-
Levels of Detail: 20
-
Level ID: 0
[ Start Tile, End Tile ]
- Resolution: 156543.03392800014
- Scale: 5.91657527591555E8
-
Level ID: 1
[ Start Tile, End Tile ]
- Resolution: 78271.51696399994
- Scale: 2.95828763795777E8
-
Level ID: 2
[ Start Tile, End Tile ]
- Resolution: 39135.75848200009
- Scale: 1.47914381897889E8
-
Level ID: 3
[ Start Tile, End Tile ]
- Resolution: 19567.87924099992
- Scale: 7.3957190948944E7
-
Level ID: 4
[ Start Tile, End Tile ]
- Resolution: 9783.93962049996
- Scale: 3.6978595474472E7
-
Level ID: 5
[ Start Tile, End Tile ]
- Resolution: 4891.96981024998
- Scale: 1.8489297737236E7
- Format: MIXED
- Compression Quality: 75.0
- Origin: X: -2.0037508342787E7
Y: 2.0037508342787E7
- Spatial Reference: 102100
(3857)
Initial Extent:
XMin: -8303969.66001896
YMin: 4590398.487619657
XMax: -7243517.539114717
YMax: 5447650.202123087
Spatial Reference: 102100
(3857)
Full Extent:
XMin: -8579407.364138294
YMin: 3954229.1501145866
XMax: -7296867.617834589
YMax: 5598721.525633917
Spatial Reference: 102100
(3857)
Units: esriMeters
Supported Image Format Types: PNG32,PNG24,PNG,JPG,DIB,TIFF,EMF,PS,PDF,GIF,SVG,SVGZ,BMP
Document Info:
Title: VMS Monkfish 2011-2014 <4 knots
Author:
Comments: This is a tile cache service showing distribution and density of fishing locations from Vessel Monitoring System (VMS) data provided by NOAA National Marine Fishery Service (NMFS).
Subject: This is a tile cache service showing distribution and density of fishing locations from Vessel Monitoring System (VMS) data
Category:
Keywords: commercial fishing
AntialiasingMode: None
TextAntialiasingMode: Force
Supports Dynamic Layers: false
MaxRecordCount: 1000
MaxImageHeight: 4096
MaxImageWidth: 4096
Supported Query Formats: JSON, AMF, geoJSON
Min Scale: 9244648.868618
Max Scale: 288895.277144
Child Resources:
Info
Supported Operations:
Export Map
Identify
Return Updates
Generate KML